BEGIN:VCALENDAR
VERSION:2.0
PRODID:-//LIT-UP - ECPv6.11.2//NONSGML v1.0//EN
CALSCALE:GREGORIAN
METHOD:PUBLISH
X-WR-CALNAME:LIT-UP
X-ORIGINAL-URL:https://litup-project.eu
X-WR-CALDESC:Events for LIT-UP
REFRESH-INTERVAL;VALUE=DURATION:PT1H
X-Robots-Tag:noindex
X-PUBLISHED-TTL:PT1H
BEGIN:VTIMEZONE
TZID:UTC
BEGIN:STANDARD
TZOFFSETFROM:+0000
TZOFFSETTO:+0000
TZNAME:UTC
DTSTART:20230101T000000
END:STANDARD
END:VTIMEZONE
BEGIN:VEVENT
DTSTART;VALUE=DATE:20230518
DTEND;VALUE=DATE:20230523
DTSTAMP:20260421T142021
CREATED:20221220T120807Z
LAST-MODIFIED:20230420T105751Z
UID:2580-1684368000-1684799999@litup-project.eu
SUMMARY:Publishers meeting in Torino
DESCRIPTION:#SaveTheDate: 18-22 May 2023 in Torino (Italy). \nMore information here: https://litup-project.eu/lit-up-first-workshop-at-salone-internazionale-del-libro-di-torino/
URL:https://litup-project.eu/event/publishers-meeting-in-torino/
CATEGORIES:Events
END:VEVENT
END:VCALENDAR